BEGIN:VCALENDAR
VERSION:2.0
PRODID:-//pretix//pretix.eu//
BEGIN:VTIMEZONE
TZID:Europe/Berlin
BEGIN:STANDARD
DTSTART:20001029T040000
RRULE:FREQ=YEARLY;BYDAY=-1SU;BYMONTH=10
TZNAME:CET
TZOFFSETFROM:+0200
TZOFFSETTO:+0100
END:STANDARD
BEGIN:DAYLIGHT
DTSTART:20000326T030000
RRULE:FREQ=YEARLY;BYDAY=-1SU;BYMONTH=3
TZNAME:CEST
TZOFFSETFROM:+0100
TZOFFSETTO:+0200
END:DAYLIGHT
END:VTIMEZONE
BEGIN:VEVENT
UID:pretix-santos-grillschule-bbq-wine-4041043@buchung.santosgrills.de
DTSTART;TZID=Europe/Berlin:20240626T173000
DTEND;TZID=Europe/Berlin:20240626T213000
DESCRIPTION:Tickets: https://buchung.santosgrills.de/bbq-wine/4041043/\nVer
 anstalter: Santos Grills GmbH
DTSTAMP:20260420T065521Z
LOCATION:Santos Grills GmbH\, Hafenstraße 1\, 51063 Köln
SUMMARY:BBQ & Wine Grillseminar
END:VEVENT
END:VCALENDAR
