BEGIN:VCALENDAR
VERSION:2.0
PRODID:-//pretix//pretix.eu//
BEGIN:VTIMEZONE
TZID:Europe/Berlin
BEGIN:STANDARD
DTSTART:20001029T040000
RRULE:FREQ=YEARLY;BYDAY=-1SU;BYMONTH=10
TZNAME:CET
TZOFFSETFROM:+0200
TZOFFSETTO:+0100
END:STANDARD
BEGIN:DAYLIGHT
DTSTART:20000326T030000
RRULE:FREQ=YEARLY;BYDAY=-1SU;BYMONTH=3
TZNAME:CEST
TZOFFSETFROM:+0100
TZOFFSETTO:+0200
END:DAYLIGHT
END:VTIMEZONE
BEGIN:VEVENT
UID:pretix-santos-grillschule-bestof-hamburg-3893954@buchung.santosgrills.d
 e
DTSTART;TZID=Europe/Berlin:20230609T173000
DTEND;TZID=Europe/Berlin:20230609T213000
DESCRIPTION:Tickets: https://buchung.santosgrills.de/bestof-hamburg/3893954
 /\nVeranstalter: Santos Grills GmbH
DTSTAMP:20260421T133232Z
LOCATION:Rugenbarg 20\, Norderstedt
SUMMARY:Best of Basis Grillseminar Hamburg
END:VEVENT
END:VCALENDAR
