BEGIN:VCALENDAR
VERSION:2.0
PRODID:-//pretix//pretix.eu//
BEGIN:VTIMEZONE
TZID:Europe/Berlin
BEGIN:STANDARD
DTSTART:20001029T040000
RRULE:FREQ=YEARLY;BYDAY=-1SU;BYMONTH=10
TZNAME:CET
TZOFFSETFROM:+0200
TZOFFSETTO:+0100
END:STANDARD
BEGIN:DAYLIGHT
DTSTART:20000326T030000
RRULE:FREQ=YEARLY;BYDAY=-1SU;BYMONTH=3
TZNAME:CEST
TZOFFSETFROM:+0100
TZOFFSETTO:+0200
END:DAYLIGHT
END:VTIMEZONE
BEGIN:VEVENT
UID:pretix-santos-grillschule-kohle-und-smoker-3849313@buchung.santosgrills
 .de
DTSTART;TZID=Europe/Berlin:20230819T110000
DTEND;TZID=Europe/Berlin:20230819T150000
DESCRIPTION:Tickets: https://buchung.santosgrills.de/kohle-und-smoker/38493
 13/\nVeranstalter: Santos Grills GmbH
DTSTAMP:20260421T124111Z
LOCATION:Hafenstraße 1\, 51063 Köln
SUMMARY:Kohle & Smoker
END:VEVENT
END:VCALENDAR
